
BEGIN:VCALENDAR
VERSION:2.0
PRODID:-//Mathias Botanical Garden - ECPv6.15.17.1//NONSGML v1.0//EN
CALSCALE:GREGORIAN
METHOD:PUBLISH
X-WR-CALNAME:Mathias Botanical Garden
X-ORIGINAL-URL:https://www.botgard.ucla.edu
X-WR-CALDESC:Events for Mathias Botanical Garden
REFRESH-INTERVAL;VALUE=DURATION:PT1H
X-Robots-Tag:noindex
X-PUBLISHED-TTL:PT1H
BEGIN:VTIMEZONE
TZID:America/Los_Angeles
BEGIN:DAYLIGHT
TZOFFSETFROM:-0800
TZOFFSETTO:-0700
TZNAME:PDT
DTSTART:20170312T100000
END:DAYLIGHT
BEGIN:STANDARD
TZOFFSETFROM:-0700
TZOFFSETTO:-0800
TZNAME:PST
DTSTART:20171105T090000
END:STANDARD
BEGIN:DAYLIGHT
TZOFFSETFROM:-0800
TZOFFSETTO:-0700
TZNAME:PDT
DTSTART:20180311T100000
END:DAYLIGHT
BEGIN:STANDARD
TZOFFSETFROM:-0700
TZOFFSETTO:-0800
TZNAME:PST
DTSTART:20181104T090000
END:STANDARD
BEGIN:DAYLIGHT
TZOFFSETFROM:-0800
TZOFFSETTO:-0700
TZNAME:PDT
DTSTART:20190310T100000
END:DAYLIGHT
BEGIN:STANDARD
TZOFFSETFROM:-0700
TZOFFSETTO:-0800
TZNAME:PST
DTSTART:20191103T090000
END:STANDARD
END:VTIMEZONE
BEGIN:VEVENT
DTSTART;TZID=America/Los_Angeles:20180602T130000
DTEND;TZID=America/Los_Angeles:20180602T140000
DTSTAMP:20260421T053005
CREATED:20180521T215148Z
LAST-MODIFIED:20180521T215148Z
UID:6516-1527944400-1527948000@www.botgard.ucla.edu
SUMMARY:June Drop-in Garden Tour
DESCRIPTION:Explore our living museum featuring collections of plants from around the globe! Join a docent for a free guided tour of the garden on the first Saturday of the month at 1pm. We’ll hear the stories of a selection of plants in the garden\, and their relevance to human society. All ages are welcome. See you there!We will meet at the Nest Outdoor Classroom at the northern end of the garden. Restrooms are available at the La Kretz Garden Pavilion. Follow the driveway down from the pavilion to find the Nest.
URL:https://www.botgard.ucla.edu/event/june-drop-in-garden-tour/
LOCATION:UCLA Mildred E. Mathias Botanical Garden\, 707 Tiverton Drive\, Los Angeles\, CA 90095\, Los Angeles\, CA\, 90095\, US
CATEGORIES:Eventbrite
ATTACH;FMTTYPE=image/jpeg:https://sites.lifesci.ucla.edu/botgard/wp-content/uploads/sites/120/2018/05/6516_image_original.jpg
END:VEVENT
BEGIN:VEVENT
DTSTART;TZID=America/Los_Angeles:20180628T190000
DTEND;TZID=America/Los_Angeles:20180628T210000
DTSTAMP:20260421T053005
CREATED:20180616T215109Z
LAST-MODIFIED:20180616T215109Z
UID:6676-1530212400-1530219600@www.botgard.ucla.edu
SUMMARY:Hamilton’s Pharmacopeia - Outdoor screening + Q&A with Hamilton Morris
DESCRIPTION:Explore ethnobotany as Hamilton Morris digs into the history of one of his favorite psychoactive plants: peyote. Tribes and shamans have been consuming the cactus for generations\, and Hamilton taps a Native American peyotist to help him trace the plant’s history—from its humble origins to the place it occupies in popular culture today. Hamilton is a Science Editor for Vice Magazine and studies chemistry and psychoactive substances in formal and clandestine labs around the world. Explore Hamilton’s Pharmacopeia to learn more about his work. \nThis event is free\, but seating is limited–RSVP to reserve a space
URL:https://www.botgard.ucla.edu/event/hamiltons-pharmacopeia-outdoor-screening-qa-with-hamilton-morris/
LOCATION:The Outdoor Amphitheater\, 707 Tiverton Drive\, Los Angeles\, CA 90095\, Los Angeles\, CA\, 90095
CATEGORIES:Eventbrite
ATTACH;FMTTYPE=image/png:https://sites.lifesci.ucla.edu/botgard/wp-content/uploads/sites/120/2018/06/6676_image_original.png
END:VEVENT
END:VCALENDAR