
BEGIN:VCALENDAR
VERSION:2.0
PRODID:-//Mathias Botanical Garden - ECPv6.15.17.1//NONSGML v1.0//EN
CALSCALE:GREGORIAN
METHOD:PUBLISH
X-WR-CALNAME:Mathias Botanical Garden
X-ORIGINAL-URL:https://www.botgard.ucla.edu
X-WR-CALDESC:Events for Mathias Botanical Garden
REFRESH-INTERVAL;VALUE=DURATION:PT1H
X-Robots-Tag:noindex
X-PUBLISHED-TTL:PT1H
BEGIN:VTIMEZONE
TZID:America/Los_Angeles
BEGIN:DAYLIGHT
TZOFFSETFROM:-0800
TZOFFSETTO:-0700
TZNAME:PDT
DTSTART:20170312T100000
END:DAYLIGHT
BEGIN:STANDARD
TZOFFSETFROM:-0700
TZOFFSETTO:-0800
TZNAME:PST
DTSTART:20171105T090000
END:STANDARD
BEGIN:DAYLIGHT
TZOFFSETFROM:-0800
TZOFFSETTO:-0700
TZNAME:PDT
DTSTART:20180311T100000
END:DAYLIGHT
BEGIN:STANDARD
TZOFFSETFROM:-0700
TZOFFSETTO:-0800
TZNAME:PST
DTSTART:20181104T090000
END:STANDARD
BEGIN:DAYLIGHT
TZOFFSETFROM:-0800
TZOFFSETTO:-0700
TZNAME:PDT
DTSTART:20190310T100000
END:DAYLIGHT
BEGIN:STANDARD
TZOFFSETFROM:-0700
TZOFFSETTO:-0800
TZNAME:PST
DTSTART:20191103T090000
END:STANDARD
END:VTIMEZONE
BEGIN:VEVENT
DTSTART;TZID=America/Los_Angeles:20180517T170000
DTEND;TZID=America/Los_Angeles:20180517T183000
DTSTAMP:20260421T082219
CREATED:20180507T180157Z
LAST-MODIFIED:20180507T180157Z
UID:6467-1526576400-1526581800@www.botgard.ucla.edu
SUMMARY:Native Bees in the Wild & in Gardens
DESCRIPTION:Join us for a talk by Dylan Burge exploring the ecology and health of native bees. Native bees are diverse and ecologically important in California. In natural ecosystems\, native bees are the primary pollinators of most plants. However\, native bees are in decline around the world\, with introduced diseases and pesticides the likely cause of the decline. Although humans as a whole are ultimately responsible for bee decline\, individuals can promote bee diversity by smart native plant gardening techniques that promote pollinator diversity. \nDylan Burge is a botanical and entomological consultant based in California. He does research on native plants and insects. In his spare time\, Dylan enjoys hiking\, photography\, free-diving\, and mountaineering. He is a Post Doc in Victoria Sork’s lab at UCLA. \nThis event is free\, but space is limited\, so please RSVP at: uclabotanical.eventbrite.com
URL:https://www.botgard.ucla.edu/event/native-bees-in-the-wild-in-gardens/
LOCATION:UCLA La Kretz Garden Pavilion\, 707 Tiverton Drive\, Los Angeles\, CA 90095\, Los Angeles\, CA\, 90095\, US
END:VEVENT
BEGIN:VEVENT
DTSTART;TZID=America/Los_Angeles:20180517T170000
DTEND;TZID=America/Los_Angeles:20180517T183000
DTSTAMP:20260421T082219
CREATED:20180515T222444Z
LAST-MODIFIED:20180515T222444Z
UID:6505-1526576400-1526581800@www.botgard.ucla.edu
SUMMARY:Native Bees in the Wild & in Gardens
DESCRIPTION:Join us for a talk by Dylan Burge exploring the ecology and health of native bees. Native bees are diverse and ecologically important in California. In natural ecosystems\, native bees are the primary pollinators of most plants. However\, native bees are in decline around the world\, with introduced diseases and pesticides the likely cause of the decline. Although humans as a whole are ultimately responsible for bee decline\, individuals can promote bee diversity by smart native plant gardening techniques that promote pollinator diversity.\n\nDylan Burge is a botanical and entomological consultant based in California. He does research on native plants and insects. In his spare time\, Dylan enjoys hiking\, photography\, free-diving\, and mountaineering. He is a Post Doc in Victoria Sork’s lab at UCLA.
URL:https://www.botgard.ucla.edu/event/native-bees-in-the-wild-in-gardens-2/
LOCATION:UCLA La Kretz Garden Pavilion\, 707 Tiverton Drive\, Los Angeles\, CA 90095\, Los Angeles\, CA\, 90095\, US
CATEGORIES:Eventbrite
ATTACH;FMTTYPE=image/jpeg:https://sites.lifesci.ucla.edu/botgard/wp-content/uploads/sites/120/2018/05/6505_image_original.jpg
END:VEVENT
END:VCALENDAR