
BEGIN:VCALENDAR
VERSION:2.0
PRODID:-//Mathias Botanical Garden - ECPv6.15.17.1//NONSGML v1.0//EN
CALSCALE:GREGORIAN
METHOD:PUBLISH
X-ORIGINAL-URL:https://www.botgard.ucla.edu
X-WR-CALDESC:Events for Mathias Botanical Garden
REFRESH-INTERVAL;VALUE=DURATION:PT1H
X-Robots-Tag:noindex
X-PUBLISHED-TTL:PT1H
BEGIN:VTIMEZONE
TZID:America/Los_Angeles
BEGIN:DAYLIGHT
TZOFFSETFROM:-0800
TZOFFSETTO:-0700
TZNAME:PDT
DTSTART:20170312T100000
END:DAYLIGHT
BEGIN:STANDARD
TZOFFSETFROM:-0700
TZOFFSETTO:-0800
TZNAME:PST
DTSTART:20171105T090000
END:STANDARD
BEGIN:DAYLIGHT
TZOFFSETFROM:-0800
TZOFFSETTO:-0700
TZNAME:PDT
DTSTART:20180311T100000
END:DAYLIGHT
BEGIN:STANDARD
TZOFFSETFROM:-0700
TZOFFSETTO:-0800
TZNAME:PST
DTSTART:20181104T090000
END:STANDARD
BEGIN:DAYLIGHT
TZOFFSETFROM:-0800
TZOFFSETTO:-0700
TZNAME:PDT
DTSTART:20190310T100000
END:DAYLIGHT
BEGIN:STANDARD
TZOFFSETFROM:-0700
TZOFFSETTO:-0800
TZNAME:PST
DTSTART:20191103T090000
END:STANDARD
END:VTIMEZONE
BEGIN:VEVENT
DTSTART;TZID=America/Los_Angeles:20180512T080000
DTEND;TZID=America/Los_Angeles:20180512T100000
DTSTAMP:20260421T082246
CREATED:20180409T212218Z
LAST-MODIFIED:20180409T224951Z
UID:6167-1526112000-1526119200@www.botgard.ucla.edu
SUMMARY:BirdLA Day: Botanical Birding for Citizen Science and Academic Research
DESCRIPTION:Held every May\, Bird LA Day celebrates the birds of Southern California and LA’s amazing biodiversity. Bird and nature-themed events are held throughout the greater Los Angeles area. Bird LA Day shines the spotlight on nature\, and reminds the world that Los Angeles is a lot more than just film\, fashion and celebrities.\nJoin graduate students Andy Kleinhesselink\, Samuel Bressler\, and the UCLA Mildred E. Mathias Botanical Garden staff for a morning of birding in our 7.5 acre urban oasis in Westwood! We’ll start off at the Nest Outdoor Classroom with coffee and snacks\, followed by some demonstrations about how the garden is used for ornithological scientific research and how citizen scientists like you can contribute birding observations with phone-based apps. This event is free\, but space is limited\, so please RSVP.\nPhoto by Nurit Katz
URL:https://www.botgard.ucla.edu/event/birdla-day-botanical-birding-for-citizen-science-and-academic-research/
LOCATION:The Nest Outdoor Classroom\, 707 Tiverton Drive\, Los Angeles\, CA 90095\, Los Angeles\, CA\, 90095\, US
CATEGORIES:Eventbrite
ATTACH;FMTTYPE=image/jpeg:https://sites.lifesci.ucla.edu/botgard/wp-content/uploads/sites/120/2018/04/6167_image_original.jpg
END:VEVENT
BEGIN:VEVENT
DTSTART;TZID=America/Los_Angeles:20180512T163000
DTEND;TZID=America/Los_Angeles:20180512T180000
DTSTAMP:20260421T082246
CREATED:20180507T180700Z
LAST-MODIFIED:20180507T180700Z
UID:6473-1526142600-1526148000@www.botgard.ucla.edu
SUMMARY:Ethnomusicology in the Garden: Hindustani Classical Music
DESCRIPTION:Join us at the golden hour in the garden for a concert of Hindustani (Northern Indian) classical music featuring sitar and tabla. This music takes form through a concept called raag\, which contains mood\, composition and improvisation\, and flows through multiple movements which build up to climactic closing sections. The selected raags are Charukeshi and Yaman\, which are both traditionally played or listened to in the evening. These will be performed outside in the waning hours of the day\, with the hope of connecting the sonic performance with the moods of the garden at a day’s end. \nMusic is performed by UCLA Herb Alpert School of Music Department of Ethnomusicology students Justin Inbar on sitar and Ram Kaundinya on tabla. \nThis event is free\, but seating is limited. Please RSVP here. \nThere is no charge for many of our programs\, but donations of any amount are greatly appreciated! Please visit our website to support the Docent and Education Fund. Thank you for considering a tax-deductible donation to the Botanical Garden.
URL:https://www.botgard.ucla.edu/event/ethnomusicology-in-the-garden-hindustani-classical-music/
LOCATION:The Nest Outdoor Classroom\, 707 Tiverton Drive\, Los Angeles\, CA 90095\, Los Angeles\, CA\, 90095\, US
END:VEVENT
END:VCALENDAR